BEGIN:VCALENDAR
PRODID:-//AT Content Types//AT Event//EN
VERSION:2.0
METHOD:PUBLISH
BEGIN:VEVENT
DTSTAMP:20260420T054524Z
CREATED:20240214T225753Z
UID:ATEvent-75023e62a34a46068894760e0fb00ef8
LAST-MODIFIED:20240314T144915Z
SUMMARY:Feb 23\, 2024: The Year of Respect Feb 2024
DTSTART:20240224T011500Z
DTEND:20240224T023000Z
DESCRIPTION:This is a magnificent mission worthy of every\neffort we c
 an individually and collectively give.\n2024 The Year of RESPECT is a 
 community-wide\ninitiative that strives to reshape our attitudes\nand 
 actions toward each other.\nJoin us in this HEAD and HEART experience,
 \nas we take actionable steps to build a kinder\ncommunity that is a l
 ight and example for\nthe world. Let’s do this Together!
LOCATION:125 Live
CATEGORIES:networking, key, civic engagement
CLASS:PUBLIC
END:VEVENT
END:VCALENDAR
