BEGIN:VCALENDAR
PRODID:-//AT Content Types//AT Event//EN
VERSION:2.0
METHOD:PUBLISH
BEGIN:VEVENT
DTSTAMP:20260420T034121Z
CREATED:20171019T135403Z
UID:ATEvent-30865187cf1c445f9c2be783ec257995
LAST-MODIFIED:20240803T154443Z
SUMMARY:Year of Respect Featuring Dr. Jim Miser
DTSTART:20240822T220000Z
DTEND:20240823T000000Z
DESCRIPTION:An Incredible and Inspiring Story!\nPediatricians Jim & An
 gela Miser have been\n“People on a Mission” their entire adult liv
 es.
LOCATION:125 Live
CLASS:PUBLIC
END:VEVENT
END:VCALENDAR
