BEGIN:VCALENDAR
PRODID:-//AT Content Types//AT Event//EN
VERSION:1.0
BEGIN:VEVENT
DTSTART:20240425T230000Z
DTEND:20240426T003000Z
DCREATED:20240303T145932Z
UID:ATEvent-017a9ee255584049b1e33b37d0117fef
SEQUENCE:0
LAST-MODIFIED:20240419T215418Z
SUMMARY:The Power of Encouragement
DESCRIPTION:Special Guest:\nGwendolyn Amstutz\nFirst Lady of\nEncourag
 ement\nHealthcare Administration\; Additional Guest:\nDr. Kent Pekel\n
 Rochester Public Schools\nSuperintendent\nDr. Pekel is a Master\nEncou
 rager of students,\nparents\, and teachers.
LOCATION:125 LIVE (River Room)  ADDRESS: 125 Elton Hills Drive
PRIORITY:3
TRANSP:0
END:VEVENT
END:VCALENDAR
