BEGIN:VCALENDAR
PRODID:-//AT Content Types//AT Event//EN
VERSION:2.0
METHOD:PUBLISH
BEGIN:VEVENT
DTSTAMP:20260420T052456Z
CREATED:20180606T174658Z
UID:ATEvent-865ecbfe76394126abab37eb1d93acf5
LAST-MODIFIED:20250301T181548Z
SUMMARY:507 Experience Kick-off Supper (RSVP Required)
DTSTART:20250311T230000Z
DTEND:20250312T010000Z
DESCRIPTION:The 507 Experience will offer the people who are part of t
 he area code 507 an opportunity to enjoy uninterrupted time visiting w
 ith friends either over coffee or "breaking bread" over a meal.
LOCATION:Empire Event Center
CATEGORIES:compassion, faith, civic engagement
CONTACT:Wendell Amstutz\, ncrcoffice@aol.com
CLASS:PUBLIC
END:VEVENT
END:VCALENDAR
