BEGIN:VCALENDAR
PRODID:-//AT Content Types//AT Event//EN
VERSION:2.0
METHOD:PUBLISH
BEGIN:VEVENT
DTSTAMP:20260422T224620Z
CREATED:20191205T223114Z
UID:ATEvent-ae30f347fba94216bf70b19f43fc56a4
LAST-MODIFIED:20191205T223415Z
SUMMARY:Y Rochester Early Childhood Learning Center Open House
DTSTART:20191211T230000Z
DTEND:20191212T010000Z
LOCATION:2364 Valleyhigh Drive NW  (near Lourdes High School)
CATEGORIES:boys & girls, YMCA, ymca
CLASS:PUBLIC
END:VEVENT
END:VCALENDAR
