BEGIN:VCALENDAR
PRODID:-//AT Content Types//AT Event//EN
VERSION:1.0
BEGIN:VEVENT
DTSTART:20230610T160000Z
DTEND:20230610T190000Z
DCREATED:20230506T153210Z
UID:ATEvent-bcdc7a9ac33149f383c763835e3f6fd6
SEQUENCE:0
LAST-MODIFIED:20230526T024648Z
SUMMARY:IMAA 2023: Walk around the World
DESCRIPTION:A community wide event to celebrate the Diverse Cultures i
 n Rochester
LOCATION:RCTC Regional Sports Center
PRIORITY:3
TRANSP:0
END:VEVENT
END:VCALENDAR
