BEGIN:VCALENDAR
PRODID:-//AT Content Types//AT Event//EN
VERSION:1.0
BEGIN:VEVENT
DTSTART:20220609T210000Z
DTEND:20220609T233000Z
DCREATED:20150209T174009Z
UID:ATEvent-1fd800b5ddff42a8b3a20e43086eb4c4
SEQUENCE:0
LAST-MODIFIED:20220519T180502Z
SUMMARY:Village Garden Open House
DESCRIPTION:Rescheduled from May 19 to June 9 due to weather
LOCATION:he Village Community Garden @ Covenant \, 4950 31st Ave NW\, Rochester\, MN 55901\, USA
PRIORITY:3
TRANSP:0
END:VEVENT
END:VCALENDAR
