BEGIN:VCALENDAR
PRODID:-//AT Content Types//AT Event//EN
VERSION:2.0
METHOD:PUBLISH
BEGIN:VEVENT
DTSTAMP:20260423T002859Z
CREATED:20231027T151251Z
UID:ATEvent-2c1187a0de2241e7a507d5de55178fbf
LAST-MODIFIED:20231027T151334Z
SUMMARY:UMR State of the Campus 2023
DTSTART:20231108T173000Z
DTEND:20231108T183000Z
LOCATION:Chateau Theatre
CATEGORIES:Education, UMR
CLASS:PUBLIC
END:VEVENT
END:VCALENDAR
