BEGIN:VCALENDAR
PRODID:-//AT Content Types//AT Event//EN
VERSION:1.0
BEGIN:VEVENT
DTSTART:20211130T160000Z
DTEND:20211130T180000Z
DCREATED:20211013T155843Z
UID:ATEvent-fcbe2a35c0994eb4a8b99c17ceeca83a
SEQUENCE:0
LAST-MODIFIED:20211013T160028Z
SUMMARY:Training for Good: Grant Writing for Nonprofits
PRIORITY:3
TRANSP:0
END:VEVENT
END:VCALENDAR
