BEGIN:VCALENDAR
PRODID:-//AT Content Types//AT Event//EN
VERSION:2.0
METHOD:PUBLISH
BEGIN:VEVENT
DTSTAMP:20260419T170528Z
CREATED:20211123T134245Z
UID:ATEvent-3b9b5367cbb84730861221067573bb05
LAST-MODIFIED:20211123T134309Z
SUMMARY:Spotlight Series: Equity\, Law\, and Nonprofits for Non-lawyers
DTSTART:20211201T210000Z
DTEND:20211201T220000Z
DESCRIPTION:n the Law & Equity Spotlight Series\, you will join four a
 ttorneys\, each with expertise at the intersection of nonprofit employ
 ment\, program operations\, and equity\, for three 60-minute sessions 
 designed to offer key legal information in a way that resonates for no
 n-lawyers. Comprehensively\, the sessions will address these topics an
 d more
CATEGORIES:Diversity, npc
URL:https://www.minnesotanonprofits.org/events/event-detail/2021/12/01/default-calendar/spotlight-equity-law-and-nonprofits-for-non-lawyers
CLASS:PUBLIC
END:VEVENT
END:VCALENDAR
