BEGIN:VCALENDAR
PRODID:-//AT Content Types//AT Event//EN
VERSION:2.0
METHOD:PUBLISH
BEGIN:VEVENT
DTSTAMP:20260425T184943Z
CREATED:20210422T220801Z
UID:ATEvent-b930ebd325b849e1be9be1cfcb89e34f
LAST-MODIFIED:20211212T162145Z
SUMMARY:Southeast Regional Affordable Housing Forum
DTSTART:20210427T140000Z
DTEND:20210427T170000Z
LOCATION:Virtual Meeting
CATEGORIES:RAF, Housing, housing
URL:https://web.cvent.com/event/be9abca2-8ea9-4b55-895a-2875f977692d/summary?RefId=XSNKXLWM8CY
CLASS:PUBLIC
END:VEVENT
END:VCALENDAR
