BEGIN:VCALENDAR
PRODID:-//AT Content Types//AT Event//EN
VERSION:1.0
BEGIN:VEVENT
DTSTART:20230928T223000Z
DTEND:20230929T003000Z
DCREATED:20230819T135217Z
UID:ATEvent-a8db86fda28446e5898a8382be5034e0
SEQUENCE:0
LAST-MODIFIED:20230822T143505Z
SUMMARY:SBDC: Setting & Adjusting Pricing
DESCRIPTION:Join us to learn about pricing strategies\, including how\
 nto set initial prices and change them with the market!
LOCATION:SBDC CENTER MN BIOBUSINESS CENTER SIXTH FLOOR 211 1ST AVE SW ROCHESTER\, MN
PRIORITY:3
TRANSP:0
END:VEVENT
END:VCALENDAR
