BEGIN:VCALENDAR
PRODID:-//AT Content Types//AT Event//EN
VERSION:2.0
METHOD:PUBLISH
BEGIN:VEVENT
DTSTAMP:20260420T013931Z
CREATED:20220111T175953Z
UID:ATEvent-83c41004d29a4903bbfb4f47d7d34761
LAST-MODIFIED:20220112T171000Z
SUMMARY:RPS School Board Listening Session
DTSTART:20220121T010000Z
DTEND:20220121T020000Z
CATEGORIES:youth, RPS, education, CMRC
CONTACT:Melissa Brandt\, 507-328-4230
CLASS:PUBLIC
END:VEVENT
END:VCALENDAR
