BEGIN:VCALENDAR
PRODID:-//AT Content Types//AT Event//EN
VERSION:2.0
METHOD:PUBLISH
BEGIN:VEVENT
DTSTAMP:20260423T002519Z
CREATED:20230301T234341Z
UID:ATEvent-6967ace2778b41a3a21d4816d98f1ced
LAST-MODIFIED:20230307T144326Z
SUMMARY:RPS School Board Listening Session
DTSTART:20230323T223000Z
DTEND:20230323T233000Z
DESCRIPTION:Families have always been children’s first and most infl
 uential teachers. Rochester Public Schools respects and values the vit
 ally important contributions that parents and caregivers provide to he
 lp students be successful at home and at school. And they want to hear
  from you!
CATEGORIES:RPS, education
URL:https://www.facebook.com/events/725621542569586?active_tab=about
CLASS:PUBLIC
END:VEVENT
END:VCALENDAR
