BEGIN:VCALENDAR
PRODID:-//AT Content Types//AT Event//EN
VERSION:1.0
BEGIN:VEVENT
DTSTART:20240910T150000Z
DTEND:20240910T160000Z
DCREATED:20240808T133846Z
UID:ATEvent-c260406a16b6440a82fe917fc9bacd13
SEQUENCE:0
LAST-MODIFIED:20240912T160131Z
SUMMARY:RPS September 2024 Family Engagement Meeting: Ignite Student Learning 2024 Referendum
DESCRIPTION:During our September meeting\, RPS Superintendent\, Dr. Ke
 nt Pekel\, will lead an information session on the topic: "Ignite Stud
 ent Learning 2024 Referendum.
LOCATION:Virtual
PRIORITY:3
TRANSP:0
END:VEVENT
END:VCALENDAR
