BEGIN:VCALENDAR
PRODID:-//AT Content Types//AT Event//EN
VERSION:1.0
BEGIN:VEVENT
DTSTART:20220111T160000Z
DTEND:20220111T173000Z
DCREATED:20220111T174704Z
UID:ATEvent-c499b32e2103488f81a08acc9c5fcfcf
SEQUENCE:0
LAST-MODIFIED:20220113T233300Z
SUMMARY:RPS: January 2022 Monthly District Family Engagement Meeting
PRIORITY:3
TRANSP:0
END:VEVENT
END:VCALENDAR
