BEGIN:VCALENDAR
PRODID:-//AT Content Types//AT Event//EN
VERSION:1.0
BEGIN:VEVENT
DTSTART:20220308T160000Z
DTEND:20220308T173000Z
DCREATED:20130509T210747Z
UID:ATEvent-f07fc93bd2f84c83811d5bbc22151c8f
SEQUENCE:0
LAST-MODIFIED:20220517T140106Z
SUMMARY:RPS: March 2022 Monthly District Family Engagement Meeting
DESCRIPTION:Crisis Center\; Covid\; Skyward 101\; Internet Offerings\;
  RPS Top 5 (mental health)
LOCATION:First Floor Conference Room - Y
PRIORITY:3
TRANSP:0
END:VEVENT
END:VCALENDAR
