BEGIN:VCALENDAR
PRODID:-//AT Content Types//AT Event//EN
VERSION:2.0
METHOD:PUBLISH
BEGIN:VEVENT
DTSTAMP:20260421T085555Z
CREATED:20220210T164756Z
UID:ATEvent-a1cd914b7bf941499687cee800c8d787
LAST-MODIFIED:20220517T141131Z
SUMMARY:RPS: February 2022 Monthly District Family Engagement Meeting
DTSTART:20220208T160000Z
DTEND:20220208T173000Z
DESCRIPTION:Meeting video\; injury prevention\; RPS Budget\; Education
  Resources
CATEGORIES:rps, education, diversity, youth, Education, cmrc
CONTACT:BRANDT\, MELISSA\, MEBRANDT@rochesterschools.org
URL:https://www.rochesterschools.org/families/family-and-community-engagement
CLASS:PUBLIC
END:VEVENT
END:VCALENDAR
