BEGIN:VCALENDAR
PRODID:-//AT Content Types//AT Event//EN
VERSION:2.0
METHOD:PUBLISH
BEGIN:VEVENT
DTSTAMP:20260421T043425Z
CREATED:20240212T154519Z
UID:ATEvent-16338a44986a48ec99b175ef48f28c69
LAST-MODIFIED:20240221T174325Z
SUMMARY:RPS Feb 2024 Family Engagement Meeting
DTSTART:20240213T160000Z
DTEND:20240213T173000Z
DESCRIPTION:School Counseling and Family Engagement\, with a presentat
 ion from Alex Higano\, Lead School Counselor\, and perspectives from R
 PS school counselors.
LOCATION:Sunset Terrace Elementary School
CATEGORIES:RPS, diversity, rps, community, key, education
CLASS:PUBLIC
END:VEVENT
END:VCALENDAR
