BEGIN:VCALENDAR
PRODID:-//AT Content Types//AT Event//EN
VERSION:1.0
BEGIN:VEVENT
DTSTART:20250114T160000Z
DTEND:20250114T170000Z
DCREATED:20241209T175745Z
UID:ATEvent-4d3281b1f7bc4a73b639b48e2a6dbc0f
SEQUENCE:0
LAST-MODIFIED:20250116T155516Z
SUMMARY:RPS Jan 2025 Family Engagement Meeting:  Opportunities for Students to Earn College Credit in High School
DESCRIPTION:Opportunities for Students to Earn College Credit in High 
 School
LOCATION:Virtual
PRIORITY:3
TRANSP:0
END:VEVENT
END:VCALENDAR
