BEGIN:VCALENDAR
PRODID:-//AT Content Types//AT Event//EN
VERSION:2.0
METHOD:PUBLISH
BEGIN:VEVENT
DTSTAMP:20260421T043825Z
CREATED:20160602T035819Z
UID:ATEvent-1f9e83c1c7554415808fb40c0fb04281
LAST-MODIFIED:20260122T182853Z
SUMMARY:Jan 2026 RPS Family Engagement
DTSTART:20260113T160000Z
DTEND:20260113T170000Z
DESCRIPTION:RPS 5Essentials Survey\; Helping Students Thrive: Supporti
 ng Positive Behavior Together
LOCATION:Virtual
CATEGORIES:RPS, education, diversity, key, Education
CONTACT:Spindler-Krage\, Jennifer\, 507-328-4230\, jespindler@rochesterschools.org
CLASS:PUBLIC
END:VEVENT
END:VCALENDAR
