BEGIN:VCALENDAR
PRODID:-//AT Content Types//AT Event//EN
VERSION:1.0
BEGIN:VEVENT
DTSTART:20220505T140000Z
DTEND:20220505T160000Z
DCREATED:20140118T172931Z
UID:ATEvent-45d0bd85160c4232bac186c91356de2a
SEQUENCE:0
LAST-MODIFIED:20220419T152443Z
SUMMARY:Rochester Public Library Community Stakeholders Forum (By Invitation)
DESCRIPTION:Discuss the services and future of Rochester Public Librar
 y
LOCATION:Zoom
PRIORITY:3
TRANSP:0
END:VEVENT
END:VCALENDAR
