BEGIN:VCALENDAR
PRODID:-//AT Content Types//AT Event//EN
VERSION:1.0
BEGIN:VEVENT
DTSTART:20220929T210000Z
DTEND:20220930T000000Z
DCREATED:20170130T225240Z
UID:ATEvent-f7a4a4640f864989898d3fffe631a896
SEQUENCE:0
LAST-MODIFIED:20221004T220002Z
SUMMARY:Network & Connect Happy Hour with Jounie
DESCRIPTION:Celebrating 10 years of service
LOCATION:Rochester Golf & County Club
PRIORITY:3
TRANSP:0
END:VEVENT
END:VCALENDAR
