BEGIN:VCALENDAR
PRODID:-//AT Content Types//AT Event//EN
VERSION:2.0
METHOD:PUBLISH
BEGIN:VEVENT
DTSTAMP:20260421T143725Z
CREATED:20160809T013530Z
UID:ATEvent-d75626ac884647ccacb88625ac15dcce
LAST-MODIFIED:20220624T224054Z
SUMMARY:Rochester Transit Virtual Open Bouse
DTSTART:20220505T170000Z
DTEND:20220505T180000Z
CATEGORIES:transit, transportation, community
URL:https://www.rochestertdp.com/participate/
CLASS:PUBLIC
END:VEVENT
END:VCALENDAR
