BEGIN:VCALENDAR
PRODID:-//AT Content Types//AT Event//EN
VERSION:1.0
BEGIN:VEVENT
DTSTART:20211030T210000Z
DTEND:20211031T020000Z
DCREATED:20211016T140616Z
UID:ATEvent-13a19f0918e44870967c0f47a5cdb8d0
SEQUENCE:0
LAST-MODIFIED:20211016T140641Z
SUMMARY:Rochester on Tap
DESCRIPTION:Rochester on Tap is making it's way back to the Mayo Civic
  Center on Saturday\, October 30th\, 2021 with a VIP Session and two G
 eneral Admission Sessions! Sample over 100 releases from some of Ameri
 ca’s best craft breweries!
LOCATION:Mayo Civic Center  30 Civic Center Drive  Rochester\, MN 55904
PRIORITY:3
TRANSP:0
END:VEVENT
END:VCALENDAR
