BEGIN:VCALENDAR
PRODID:-//AT Content Types//AT Event//EN
VERSION:2.0
METHOD:PUBLISH
BEGIN:VEVENT
DTSTAMP:20260425T190107Z
CREATED:20210708T144723Z
UID:ATEvent-68139383f21e49f9a7357df3a893a7fd
LAST-MODIFIED:20210708T144758Z
SUMMARY:Rochester City Council: Discussing the future and funding of the Day Center
DTSTART:20210719T230000Z
DTEND:20210720T000000Z
CATEGORIES:Housing, poverty, Homelessness
CONTACT:inthecityforgood@gmail.com
CLASS:PUBLIC
END:VEVENT
END:VCALENDAR
