BEGIN:VCALENDAR
PRODID:-//AT Content Types//AT Event//EN
VERSION:2.0
METHOD:PUBLISH
BEGIN:VEVENT
DTSTAMP:20260423T021139Z
CREATED:20200303T025817Z
UID:ATEvent-5c0f1da328e5465899d242d97e9c2507
LAST-MODIFIED:20200303T030727Z
SUMMARY:Results Based Accountability (RBA) 101 by Cradle 2 Career
DTSTART:20200319T200000Z
DTEND:20200319T220000Z
LOCATION:903 W Center St 903 West Center Street  Rochester\, MN 55902
CATEGORIES:C2C, c2c, assessment, accountability
URL:https://www.eventbrite.com/e/results-based-accountability-rba-101-registration-94247299209
CLASS:PUBLIC
END:VEVENT
END:VCALENDAR
