BEGIN:VCALENDAR
PRODID:-//AT Content Types//AT Event//EN
VERSION:2.0
METHOD:PUBLISH
BEGIN:VEVENT
DTSTAMP:20260420T003058Z
CREATED:20140814T102756Z
UID:ATEvent-9526fabb76a74c70b9ae94b230fe7df0
LAST-MODIFIED:20230430T185903Z
SUMMARY:June\, 2022 Rochester Area Foundation DEI Practitioner Luncheon (By Invitation)
DTSTART:20220610T160000Z
DTEND:20220610T180000Z
DESCRIPTION:What does a thriving DEI Practitioner Community Look Like?
 
CATEGORIES:RAF, diversity
CLASS:PUBLIC
END:VEVENT
END:VCALENDAR
