BEGIN:VCALENDAR
PRODID:-//AT Content Types//AT Event//EN
VERSION:2.0
METHOD:PUBLISH
BEGIN:VEVENT
DTSTAMP:20260422T224315Z
CREATED:20190516T160834Z
UID:ATEvent-dc4039f7a7414af7bd7dae458ba2c111
LAST-MODIFIED:20190523T155752Z
SUMMARY:Project Legacy Spring Celebration
DTSTART:20190516T160500Z
DTEND:20190516T160500Z
LOCATION:The Empowerment Center 930 40th St NW\, Rochester \, MN
CATEGORIES:youth, project legacy
URL:https://www.facebook.com/events/343628409625509/
CLASS:PUBLIC
END:VEVENT
END:VCALENDAR
