BEGIN:VCALENDAR
PRODID:-//AT Content Types//AT Event//EN
VERSION:2.0
METHOD:PUBLISH
BEGIN:VEVENT
DTSTAMP:20260420T013805Z
CREATED:20211029T140055Z
UID:ATEvent-6a166c93a98b4810b8483a0fcd650f83
LAST-MODIFIED:20211029T140136Z
SUMMARY:Productive Hacks by Collider
DTSTART:20211029T170000Z
DTEND:20211029T180000Z
CATEGORIES:Education, Entrepreneurship
URL:https://www.crowdcast.io/e/productivity-hacks-keep?fbclid=IwAR0sZZjFEowvBDlwW9XXa4wVpvcPCbeMlw5mt6hscfy-CikeeIPdmzYIwQQ
CLASS:PUBLIC
END:VEVENT
END:VCALENDAR
