BEGIN:VCALENDAR
PRODID:-//AT Content Types//AT Event//EN
VERSION:2.0
METHOD:PUBLISH
BEGIN:VEVENT
DTSTAMP:20260420T033344Z
CREATED:20220227T162358Z
UID:ATEvent-98a108f146114339b6a4c885514b3b03
LAST-MODIFIED:20220227T162451Z
SUMMARY:Praying and supporting Ukraine
DTSTART:20220228T230000Z
DTEND:20220301T000000Z
DESCRIPTION:Praying and supporting Ukraine
LOCATION:Peace Plaza\, Rochester MN – on the West side\, close to Mayo Clinic
CATEGORIES:compassion, community engagement
CLASS:PUBLIC
END:VEVENT
END:VCALENDAR
