BEGIN:VCALENDAR
PRODID:-//AT Content Types//AT Event//EN
VERSION:2.0
METHOD:PUBLISH
BEGIN:VEVENT
DTSTAMP:20260425T185439Z
CREATED:20230517T224444Z
UID:ATEvent-bb9dfadc32c04bca8251a58204cf2225
LAST-MODIFIED:20230517T224657Z
SUMMARY:Pentagon Building Open House at Mayowood Acres - Sunday\, May 21st (11am-1pm)
DTSTART:20230521T160000Z
DTEND:20230521T180000Z
DESCRIPTION:Open House: 6 new studios apartments\, dedicated to housin
 g area veterans!
CATEGORIES:Housing, Homelessness, Financial Stress
CONTACT:Jeff Urban
CLASS:PUBLIC
END:VEVENT
END:VCALENDAR
