BEGIN:VCALENDAR
PRODID:-//AT Content Types//AT Event//EN
VERSION:2.0
METHOD:PUBLISH
BEGIN:VEVENT
DTSTAMP:20260421T190633Z
CREATED:20190610T010612Z
UID:ATEvent-37ac434bfc8c4cf6ab9470ddc72f79bf
LAST-MODIFIED:20190610T011501Z
SUMMARY:MNDOT\, Isaiah: Pathways to Clean Transportation - Rochester (afternoon session)
DTSTART:20190612T193000Z
DTEND:20190612T213000Z
LOCATION:Mayo Civic Center - American Legion Room\, 30 Civic Center Dr SE\, Rochester\, MN 55904
CATEGORIES:sustainability, ISAIAH, transportation, MNDOT
URL:https://secure.everyaction.com/_nayoRwZlk2A44BgUAiplA2
CLASS:PUBLIC
END:VEVENT
END:VCALENDAR
