BEGIN:VCALENDAR
PRODID:-//AT Content Types//AT Event//EN
VERSION:2.0
METHOD:PUBLISH
BEGIN:VEVENT
DTSTAMP:20260420T000438Z
CREATED:20211026T001530Z
UID:ATEvent-ec442678071b4700bbb3ac23191084bb
LAST-MODIFIED:20260329T153625Z
SUMMARY:October Age Friendly Meeting
DTSTART:20211026T193000Z
DTEND:20211026T210000Z
DESCRIPTION:We will discuss establishing Housing as a 2022-2025 planni
 ng priority for AFOC\nattention and action. Senior housing\, Aging-in-
 place.
CATEGORIES:aging
CONTACT:Dave Beal
CLASS:PUBLIC
END:VEVENT
END:VCALENDAR
