BEGIN:VCALENDAR
PRODID:-//AT Content Types//AT Event//EN
VERSION:2.0
METHOD:PUBLISH
BEGIN:VEVENT
DTSTAMP:20260420T014043Z
CREATED:20231013T141015Z
UID:ATEvent-052f80263b7946c69364b3b308704d18
LAST-MODIFIED:20231013T141132Z
SUMMARY:NIH Build UP Trust Grant Webinar
DTSTART:20231017T150000Z
DTEND:20231017T160000Z
DESCRIPTION:The Build UP Trust Challenge will host a live Q&A Webinar 
 at noon Eastern Time on Tuesday\, October 17\, 2023. During the webina
 r\, we will provide an overview of the competition\, walk through the 
 website\, and answer questions.
CATEGORIES:co-design, health, openbeam, key, Diversity
CLASS:PUBLIC
END:VEVENT
END:VCALENDAR
