BEGIN:VCALENDAR
PRODID:-//AT Content Types//AT Event//EN
VERSION:1.0
BEGIN:VEVENT
DTSTART:20220223T180000Z
DTEND:20220223T190000Z
DCREATED:20220213T152033Z
UID:ATEvent-73b9cc85ae414c6590847d76f0fb44fb
SEQUENCE:0
LAST-MODIFIED:20220220T123042Z
SUMMARY:MPRNews In Focus: Celebrating Intersectional Identities with Minnesota's LGBTQ+ Communities
DESCRIPTION:Join MPR News for In Focus: Celebrating Intersectional Ide
 ntities within Minnesota’s LGBTQ+ Communities\, a virtual community 
 conversation\, sponsored by UCare
PRIORITY:3
TRANSP:0
END:VEVENT
END:VCALENDAR
