BEGIN:VCALENDAR
PRODID:-//AT Content Types//AT Event//EN
VERSION:2.0
METHOD:PUBLISH
BEGIN:VEVENT
DTSTAMP:20260424T144033Z
CREATED:20220310T122619Z
UID:ATEvent-1e2a9eb9103741199e12cdeb56456e29
LAST-MODIFIED:20230815T231016Z
SUMMARY:MPR Rochester RDAC Spring 2022 Meeting
DTSTART:20220315T170000Z
DTEND:20220315T183000Z
DESCRIPTION:Little Moments Count focuses on the critical importance of
  early brain development in children during\nthe first three years of 
 life.
CATEGORIES:diversity, MPR, Diversity
CONTACT:Kay Hocker\, khocker@mpr.org
CLASS:PUBLIC
END:VEVENT
END:VCALENDAR
