BEGIN:VCALENDAR
PRODID:-//AT Content Types//AT Event//EN
VERSION:2.0
METHOD:PUBLISH
BEGIN:VEVENT
DTSTAMP:20260424T144035Z
CREATED:20211008T182026Z
UID:ATEvent-38afb68513f04fbfb4a315448bf5b2f2
LAST-MODIFIED:20220313T130944Z
SUMMARY:MPR Presents MN Diverse Communities Lunch and Learn
DTSTART:20211012T170000Z
DTEND:20211012T180000Z
CATEGORIES:MPR, Diversity
CLASS:PUBLIC
END:VEVENT
END:VCALENDAR
