BEGIN:VCALENDAR
PRODID:-//AT Content Types//AT Event//EN
VERSION:2.0
METHOD:PUBLISH
BEGIN:VEVENT
DTSTAMP:20260424T145839Z
CREATED:20190424T222828Z
UID:ATEvent-c09e912cdd274a9ba6bec5c795ebf793
LAST-MODIFIED:20240215T163951Z
SUMMARY:MPR Conversations on the Creative Economy: Rochester's Next Generation of Medical Entrepreneurs
DTSTART:20190507T223000Z
DTEND:20190508T010000Z
DESCRIPTION:What does it take to encourage and nurture innovative thin
 king in organizations? Join host Chris Farrell and members of Minnesot
 a's creative and business community for these exciting happy-hour netw
 orking and broadcast events.
LOCATION:The Rochester Civic Theatre's Black Box Theatre - 20 Civic Center Drive SE\, Rochester\, MN 55904
CATEGORIES:commerce, DMC, mpr
URL:https://www.mprnews.org/topic/creative-economy-conversations
CLASS:PUBLIC
END:VEVENT
END:VCALENDAR
