BEGIN:VCALENDAR
PRODID:-//AT Content Types//AT Event//EN
VERSION:2.0
METHOD:PUBLISH
BEGIN:VEVENT
DTSTAMP:20260421T172018Z
CREATED:20190712T160406Z
UID:ATEvent-759c05aaaf79428582dcf4ba6feb0608
LAST-MODIFIED:20200318T180955Z
SUMMARY:Wilder Research and Rochester Public Library: Minnesota Compass Training (Cancelled)
DTSTART:20200428T150000Z
DTEND:20200428T170000Z
LOCATION:Rochester Public Library 101 2nd Street Southeast\, Rochester\, MN 55904
CATEGORIES:MN Compass, dashboard
CONTACT:Ellen Wolter\, ellen.wolter@wilder.org
CLASS:PUBLIC
END:VEVENT
END:VCALENDAR
