BEGIN:VCALENDAR
PRODID:-//AT Content Types//AT Event//EN
VERSION:2.0
METHOD:PUBLISH
BEGIN:VEVENT
DTSTAMP:20260423T034437Z
CREATED:20191024T133835Z
UID:ATEvent-622b2530add64496ac9071da256fcb91
LAST-MODIFIED:20191028T230020Z
SUMMARY:Minnesota Humanities Center’s Rochester – Community Input Session
DTSTART:20191122T150000Z
DTEND:20191122T160000Z
LOCATION:Rochester Area Foundation
CATEGORIES:C2C, education
CONTACT:Casey DeMarais \, 651-772-4278\, casey@mnhum.org
URL:https://mnhum.org/event/rochester-community-input-session/
CLASS:PUBLIC
END:VEVENT
END:VCALENDAR
