BEGIN:VCALENDAR
PRODID:-//AT Content Types//AT Event//EN
VERSION:1.0
BEGIN:VEVENT
DTSTART:20211027T140000Z
DTEND:20211027T153000Z
DCREATED:20211026T160245Z
UID:ATEvent-43501f0094cc454fa8b9731cc2a84564
SEQUENCE:0
LAST-MODIFIED:20211026T160351Z
SUMMARY:Minnesota Alliance for Volunteer Advancement (MAVA)
PRIORITY:3
TRANSP:0
END:VEVENT
END:VCALENDAR
