BEGIN:VCALENDAR
PRODID:-//AT Content Types//AT Event//EN
VERSION:2.0
METHOD:PUBLISH
BEGIN:VEVENT
DTSTAMP:20260423T022557Z
CREATED:20170818T112125Z
UID:ATEvent-8545c8b901d84a389a5285d88ffefe9a
LAST-MODIFIED:20210217T235140Z
SUMMARY:Black Excellence: Where Resilience Meets Brilliance!
DTSTART:20210220T160000Z
DTEND:20210220T180000Z
LOCATION:Zoom
CATEGORIES:education, community engagement
CLASS:PUBLIC
END:VEVENT
END:VCALENDAR
