BEGIN:VCALENDAR
PRODID:-//AT Content Types//AT Event//EN
VERSION:2.0
METHOD:PUBLISH
BEGIN:VEVENT
DTSTAMP:20260421T190313Z
CREATED:20191215T172621Z
UID:ATEvent-92f62a0b47ad4eafbe0729c0519982a7
LAST-MODIFIED:20191215T172757Z
SUMMARY:Mayor Sustainability Pledge
DTSTART:20191216T230000Z
DTEND:20191217T000000Z
LOCATION:Rotunda Outside of Council Chambers at City Hall
CATEGORIES:city, DMC, sustainability, dmc, civic engagement
CLASS:PUBLIC
END:VEVENT
END:VCALENDAR
