BEGIN:VCALENDAR
PRODID:-//AT Content Types//AT Event//EN
VERSION:1.0
BEGIN:VEVENT
DTSTART:20230913T150000Z
DTEND:20230913T163000Z
DCREATED:20230830T162955Z
UID:ATEvent-e972876312e74dfd91767377db4d0333
SEQUENCE:0
LAST-MODIFIED:20230906T131017Z
SUMMARY:Mayor Norton: Short Term End Childhood Hunger Taskforce Convening
DESCRIPTION:As part of the White House National Strategy on Hunger\, N
 utrition\, and Health and the Mayor’s Alliance to End Childhood Hung
 er by 2030\, Mayor Norton is coordinating a short-term City-wide task 
 force to develop a blueprint to achieve the goals. There will also be 
 an opportunity to share what is already happening in our community as 
 well as sharing ideas for partnership and promoting other’s activiti
 es. (Resources noted below.)
LOCATION:Government Center\, Conference Room 104 (come in door E)
PRIORITY:3
TRANSP:0
END:VEVENT
END:VCALENDAR
