BEGIN:VCALENDAR
PRODID:-//AT Content Types//AT Event//EN
VERSION:1.0
BEGIN:VEVENT
DTSTART:20220507T150000Z
DTEND:20220507T190000Z
DCREATED:20140316T133038Z
UID:ATEvent-cc0741097edd4bd58e58c98261efcbb5
SEQUENCE:0
LAST-MODIFIED:20220508T190033Z
SUMMARY:Mayor's Healthy Community Fair
LOCATION:Peace Plaza
PRIORITY:3
TRANSP:0
END:VEVENT
END:VCALENDAR
