BEGIN:VCALENDAR
PRODID:-//AT Content Types//AT Event//EN
VERSION:2.0
METHOD:PUBLISH
BEGIN:VEVENT
DTSTAMP:20260423T184401Z
CREATED:20210817T142447Z
UID:ATEvent-33bfa7e721204381aaf7beb2431e5b0e
LAST-MODIFIED:20211026T005018Z
SUMMARY:Mayo Clinic: Rise for Equity: Reflect\, Inspire\, Strength & Empower 2021
DTSTART:20211104T133000Z
DTEND:20211106T170000Z
CATEGORIES:diversity, America City for Health, education, Health
CLASS:PUBLIC
END:VEVENT
END:VCALENDAR
