BEGIN:VCALENDAR
PRODID:-//AT Content Types//AT Event//EN
VERSION:2.0
METHOD:PUBLISH
BEGIN:VEVENT
DTSTAMP:20260421T115255Z
CREATED:20231205T013520Z
UID:ATEvent-50011a8fbb234e04a41f62724af78792
LAST-MODIFIED:20231205T013604Z
SUMMARY:Mayo Clinic DEI: Pathway Programs Part II
DTSTART:20231211T180000Z
DTEND:20231211T190000Z
LOCATION:Virtual
CATEGORIES:Diversity
CLASS:PUBLIC
END:VEVENT
END:VCALENDAR
