BEGIN:VCALENDAR
PRODID:-//AT Content Types//AT Event//EN
VERSION:1.0
BEGIN:VEVENT
DTSTART:20201111T010000Z
DTEND:20201111T014500Z
DCREATED:20201027T184536Z
UID:ATEvent-4e13f4f99a27468b956cb10cd2d533bd
SEQUENCE:0
LAST-MODIFIED:20201027T184556Z
SUMMARY:Many Hearts Make a Home
PRIORITY:3
TRANSP:0
END:VEVENT
END:VCALENDAR
