BEGIN:VCALENDAR
PRODID:-//AT Content Types//AT Event//EN
VERSION:2.0
METHOD:PUBLISH
BEGIN:VEVENT
DTSTAMP:20260422T224400Z
CREATED:20190926T151637Z
UID:ATEvent-34dc94e34bbe4c80823a93461ae18e44
LAST-MODIFIED:20191006T160249Z
SUMMARY:Linda Freeman: School Referendum
DTSTART:20190926T170000Z
DTEND:20190926T180000Z
LOCATION:Homewood Suites\, 165 13th Ave SW\, Rochester\, MN 55902
CATEGORIES:Kiwanis, Education, education, boys & girls
CLASS:PUBLIC
END:VEVENT
END:VCALENDAR
